BEGIN:VCALENDAR
VERSION:2.0
PRODID:-//ChamberMaster//Event Calendar 2.0//EN
METHOD:PUBLISH
X-PUBLISHED-TTL:P3D
REFRESH-INTERVAL:P3D
CALSCALE:GREGORIAN
BEGIN:VEVENT
DTSTART:20200416T190000Z
DTEND:20200416T200000Z
X-MICROSOFT-CDO-ALLDAYEVENT:FALSE
SUMMARY:Webinar: Technology Can Help ABC Contractors as Coronavirus Disrupts the Industry
DESCRIPTION:Date: Thursday\, April 16\n\n			Time: 3 p.m. EDT\n\n			 Speakers: Matt Abeles\, ABC National\; Jeff Sample\, eSUB\; Karl Sorensen\, Blue Collar Labs\n		\n	\n\n \n\n\n	\n		\n			Which technologies can help your business succeed during the coronavirus pandemic and immediately improve your bottom line when you are back up and running at full capacity? Hear about collaborative technologies that will improve productivity and learn which solutions could work best for different contractors. Plus\, discover simple tech solutions you can implement to jumpstart and help scale your business your business after we overcome the COVID-19 challenge.\n\n			 \n\n			 \n\n			 \n\n			Register today.
X-ALT-DESC;FMTTYPE=text/html:<table border="0" cellpadding="0" cellspacing="0" style="width:100.0%\;border-collapse:collapse\;" width="100%">\n	<tbody>\n		<tr>\n			<td style="padding:7.5pt 15.0pt 7.5pt 15.0pt\;vertical-align:top\;"><strong><span style="color:#3A3A3A\;"><span style="font-family:arial\,sans-serif\;"><span style="font-size:12.0pt\;">Date:</span></span></span></strong><span style="color:#3A3A3A\;"><span style="font-family:arial\,sans-serif\;"><span style="font-size:12.0pt\;"> Thursday\, April 16</span></span></span><br />\n			<strong><span style="color:#3A3A3A\;"><span style="font-family:arial\,sans-serif\;"><span style="font-size:12.0pt\;">Time:</span></span></span></strong><span style="color:#3A3A3A\;"><span style="font-family:arial\,sans-serif\;"><span style="font-size:12.0pt\;"> 3 p.m. EDT</span></span></span><br />\n			&#65279\;<strong><span style="color:#3A3A3A\;"><span style="font-family:arial\,sans-serif\;"><span style="font-size:12.0pt\;">Speakers:</span></span></span></strong><span style="color:#3A3A3A\;"><span style="font-family:arial\,sans-serif\;"><span style="font-size:\n"> Matt Abeles\, ABC National\; Jeff Sample\, eSUB\; Karl Sorensen\, Blue Collar Labs</span></span></span></td>\n		</tr>\n	</tbody>\n</table>\n&nbsp\;\n\n<table border="0" cellpadding="0" cellspacing="0" style="width:100.0%\;border-collapse:collapse\;min-width:100%\;" width="100%">\n	<tbody>\n		<tr>\n			<td style="padding:7.5pt 15.0pt 7.5pt 15.0pt\;word-wrap:break-word\;vertical-align:top\;"><span style="color:#3A3A3A\;"><span style="font-family:arial\,sans-serif\;"><span style="font-size:12.0pt\;">Which technologies can help your business succeed during the coronavirus pandemic&mdash\;and immediately improve your bottom line when you are back up and running at full capacity? Hear about collaborative technologies that will improve productivity and learn which solutions could work best for different contractors. Plus\, discover simple tech solutions you can implement to jumpstart and help scale your business your business after we overcome the COVID-19 challenge.</span></span></span><br />\n			&nbsp\;<br />\n			&nbsp\;<br />\n			&nbsp\;<br />\n			<span style="color:#403F42\;"><span style="font-family:arial\,sans-serif\;"><span style="font-size:9.0pt\;"><a href="http://r20.rs6.net/tn.jsp?f=001MFAgq6NKPexOEKYVOiFPwDT_lmZ--nAPcKyl8yJeqdJQdVHT6TUkLdXVTQNchsZfE7G8u8dp67ihsOI6wuvFA4BMq7buYRpw1iB1L74EF6OBmprDNmUdRW3abfasTc28DWnQvH9NMfgmUb1SlNheLHxDXHn_7fqT3KX4a0zWTXoraVIRSPdFtGZhEyEPPIQwbgoI_S2BufU=&amp\;c=kBvN61L5Fh3Jf-eSJO5hPifmP18-jX6t9VUh5crGBUuqdwAyov6d9w==&amp\;ch=tcKyg8HM729bX8oxyv2y2F2qDtyUyzpQaSh6t7TQee3B77tC-tfZKA==" target="_blank"><span style="color:#09A3BA\;"><span style="font-size:12.0pt\;">Register today.</span></span></a></span></span></span></td>\n		</tr>\n	</tbody>\n</table>\n
LOCATION:
UID:e.9143.831
SEQUENCE:3
DTSTAMP:20260425T162719Z
URL:https://business.abcnalabama.org/events/details/webinar-technology-can-help-abc-contractors-as-coronavirus-disrupts-the-industry-831
END:VEVENT

END:VCALENDAR
