BEGIN:VCALENDAR
VERSION:2.0
PRODID:-//ChamberMaster//Event Calendar 2.0//EN
METHOD:PUBLISH
X-PUBLISHED-TTL:P3D
REFRESH-INTERVAL:P3D
CALSCALE:GREGORIAN
BEGIN:VEVENT
DTSTART:20200319T190000Z
DTEND:20200319T200000Z
X-MICROSOFT-CDO-ALLDAYEVENT:FALSE
SUMMARY:Webinar: The Economy in the Time of Coronavirus: The Near- and Longer-term Outlooks for the Economy and the Markets
DESCRIPTION:Date: Thursday\, March 19\n\nTime: 2 p.m.\n\nLength: 60 minutes\n\nSpeaker: Anirban Basu\, ABC Chief Economist\n\n \n\nWEBINAR DESCRIPTION\n\nABC Members Only\n\nGet the latest data on the spread of COVID-19\, market responses and economic consequences from ABC Chief Economist Anirban Basu.\n\n \n\nRegistration link: \n\nhttps://attendee.gotowebinar.com/register/4412762780330511372
X-ALT-DESC;FMTTYPE=text/html:<p style="margin-top:2.25pt\;margin-right:0in\;margin-bottom:&#10\;2.25pt\;margin-left:0in\;background:white"><b><span style="font-size:12.0pt\;&#10\;font-family:&quot\;Arial&quot\;\,sans-serif\;color:black\;letter-spacing:.1pt">Date:&nbsp\;</span></b><span style="font-size:12.0pt\;font-family:&quot\;Arial&quot\;\,sans-serif\;color:black\;letter-spacing:&#10\;.1pt">Thursday\, March 19</span></p>\n\n<p style="margin-top:2.25pt\;margin-right:0in\;margin-bottom:&#10\;2.25pt\;margin-left:0in\;background:white\;font-variant-ligatures: normal\;&#10\;font-variant-caps: normal\;orphans: 2\;text-align:start\;widows: 2\;-webkit-text-stroke-width: 0px\;&#10\;text-decoration-style: initial\;text-decoration-color: initial\;word-spacing:&#10\;0px"><b><span style="font-size:12.0pt\;font-family:&quot\;Arial&quot\;\,sans-serif\;&#10\;color:black\;letter-spacing:.1pt">Time: </span></b><span style="font-size:&#10\;12.0pt\;font-family:&quot\;Arial&quot\;\,sans-serif\;color:black\;letter-spacing:.1pt">2 p.m.</span></p>\n\n<p style="margin-top:2.25pt\;margin-right:0in\;margin-bottom:&#10\;2.25pt\;margin-left:0in\;background:white\;font-variant-ligatures: normal\;&#10\;font-variant-caps: normal\;orphans: 2\;text-align:start\;widows: 2\;-webkit-text-stroke-width: 0px\;&#10\;text-decoration-style: initial\;text-decoration-color: initial\;word-spacing:&#10\;0px"><b><span style="font-size:12.0pt\;font-family:&quot\;Arial&quot\;\,sans-serif\;&#10\;color:black\;letter-spacing:.1pt">Length:&nbsp\;</span></b><span style="font-size:12.0pt\;font-family:&quot\;Arial&quot\;\,sans-serif\;color:black\;letter-spacing:&#10\;.1pt">60 minutes</span></p>\n\n<p style="margin-top:2.25pt\;margin-right:0in\;margin-bottom:&#10\;2.25pt\;margin-left:0in\;background:white\;font-variant-ligatures: normal\;&#10\;font-variant-caps: normal\;orphans: 2\;text-align:start\;widows: 2\;-webkit-text-stroke-width: 0px\;&#10\;text-decoration-style: initial\;text-decoration-color: initial\;word-spacing:&#10\;0px"><b><span style="font-size:12.0pt\;font-family:&quot\;Arial&quot\;\,sans-serif\;&#10\;color:black\;letter-spacing:.1pt">Speaker:</span></b><span style="font-size:&#10\;12.0pt\;font-family:&quot\;Arial&quot\;\,sans-serif\;color:black\;letter-spacing:.1pt">&nbsp\;Anirban Basu\, ABC Chief Economist</span></p>\n\n<p style="margin-top:2.25pt\;margin-right:0in\;margin-bottom:&#10\;2.25pt\;margin-left:0in\;background:white\;font-variant-ligatures: normal\;&#10\;font-variant-caps: normal\;orphans: 2\;text-align:start\;widows: 2\;-webkit-text-stroke-width: 0px\;&#10\;text-decoration-style: initial\;text-decoration-color: initial\;word-spacing:&#10\;0px"><b><span style="font-size:12.0pt\;font-family:&quot\;Arial&quot\;\,sans-serif\;&#10\;color:black\;letter-spacing:.1pt">&nbsp\;</span></b></p>\n\n<p style="margin-top:2.25pt\;margin-right:0in\;margin-bottom:&#10\;2.25pt\;margin-left:0in\;background:white\;font-variant-ligatures: normal\;&#10\;font-variant-caps: normal\;orphans: 2\;text-align:start\;widows: 2\;-webkit-text-stroke-width: 0px\;&#10\;text-decoration-style: initial\;text-decoration-color: initial\;word-spacing:&#10\;0px"><b><span style="font-size:12.0pt\;font-family:&quot\;Arial&quot\;\,sans-serif\;&#10\;color:black\;letter-spacing:.1pt">WEBINAR DESCRIPTION</span></b></p>\n\n<p style="margin-top:2.25pt\;margin-right:0in\;margin-bottom:&#10\;2.25pt\;margin-left:0in\;background:white\;font-variant-ligatures: normal\;&#10\;font-variant-caps: normal\;orphans: 2\;text-align:start\;widows: 2\;-webkit-text-stroke-width: 0px\;&#10\;text-decoration-style: initial\;text-decoration-color: initial\;word-spacing:&#10\;0px"><span style="font-size:12.0pt\;font-family:&quot\;Arial&quot\;\,sans-serif\;color:red\;&#10\;letter-spacing:.1pt">ABC Members Only</span></p>\n\n<p style="margin-top:2.25pt\;margin-right:0in\;margin-bottom:&#10\;2.25pt\;margin-left:0in\;background:white\;font-variant-ligatures: normal\;&#10\;font-variant-caps: normal\;orphans: 2\;text-align:start\;widows: 2\;-webkit-text-stroke-width: 0px\;&#10\;text-decoration-style: initial\;text-decoration-color: initial\;word-spacing:&#10\;0px"><span style="font-size:12.0pt\;font-family:&quot\;Arial&quot\;\,sans-serif\;color:black\;&#10\;letter-spacing:.1pt">Get the latest data on the spread of COVID-19\, market responses and economic consequences from ABC Chief Economist&nbsp\;Anirban Basu.</span></p>\n\n<p style="margin-top:2.25pt\;margin-right:0in\;margin-bottom:&#10\;2.25pt\;margin-left:0in\;background:white\;font-variant-ligatures: normal\;&#10\;font-variant-caps: normal\;orphans: 2\;text-align:start\;widows: 2\;-webkit-text-stroke-width: 0px\;&#10\;text-decoration-style: initial\;text-decoration-color: initial\;word-spacing:&#10\;0px"><span style="font-size:12.0pt\;font-family:&quot\;Arial&quot\;\,sans-serif\;color:black\;&#10\;letter-spacing:.1pt">&nbsp\;</span></p>\n\n<p style="margin-top:2.25pt\;margin-right:0in\;margin-bottom:&#10\;2.25pt\;margin-left:0in\;background:white\;font-variant-ligatures: normal\;&#10\;font-variant-caps: normal\;orphans: 2\;text-align:start\;widows: 2\;-webkit-text-stroke-width: 0px\;&#10\;text-decoration-style: initial\;text-decoration-color: initial\;word-spacing:&#10\;0px"><span style="font-size:12.0pt\;font-family:&quot\;Arial&quot\;\,sans-serif\;color:black\;&#10\;letter-spacing:.1pt\;background:yellow">Registration link:&nbsp\;</span></p>\n\n<p style="margin-top:2.25pt\;margin-right:0in\;margin-bottom:&#10\;2.25pt\;margin-left:0in\;background:white\;font-variant-ligatures: normal\;&#10\;font-variant-caps: normal\;orphans: 2\;text-align:start\;widows: 2\;-webkit-text-stroke-width: 0px\;&#10\;text-decoration-style: initial\;text-decoration-color: initial\;word-spacing:&#10\;0px"><span style="font-size:12.0pt\;font-family:&quot\;Arial&quot\;\,sans-serif\;color:black\;&#10\;letter-spacing:.1pt\;background:yellow"><a href="https://attendee.gotowebinar.com/register/4412762780330511372" target="_blank"><span style="color:#00A3FE\;text-decoration:none\;text-underline:&#10\;none">https://attendee.gotowebinar.com/register/4412762780330511372</span></a></span></p>\n\n<p style="margin-top:2.25pt\;margin-right:0in\;margin-bottom:&#10\;2.25pt\;margin-left:0in\;background:white"><span style="font-size:12.0pt\;&#10\;font-family:&quot\;Arial&quot\;\,sans-serif\;color:black\;letter-spacing:.1pt">&nbsp\;</span></p>\n
LOCATION:
UID:e.9143.823
SEQUENCE:3
DTSTAMP:20260425T175530Z
URL:https://business.abcnalabama.org/events/details/webinar-the-economy-in-the-time-of-coronavirus-the-near-and-longer-term-outlooks-for-the-economy-and-the-markets-823
END:VEVENT

END:VCALENDAR
