BEGIN:VCALENDAR
VERSION:2.0
PRODID:-//ChamberMaster//Event Calendar 2.0//EN
METHOD:PUBLISH
X-PUBLISHED-TTL:P3D
REFRESH-INTERVAL:P3D
CALSCALE:GREGORIAN
BEGIN:VEVENT
DTSTART:20230614T180000Z
DTEND:20230614T200000Z
X-MICROSOFT-CDO-ALLDAYEVENT:FALSE
SUMMARY:What Contractors Need To Prioritize in Their Subcontractor Negotiations
DESCRIPTION:Subcontractors and suppliers are increasingly pushing back on risks in subcontract negotiations. This webinar will provide fundamental principles for appropriate flow-down provisions and the most important provisions that general contractors and subcontractors alike should focus their attention upon.\n\n \n\nBy attending\, you will gain a deeper understanding of critical issues like pay-if-paid and pay-when-paid\, as well as minimizing conflicts between contract documents and scope gaps.
X-ALT-DESC;FMTTYPE=text/html:<span style="color:black\;"><span style="font-family:arial\,sans-serif\;">Subcontractors and suppliers are increasingly pushing back on risks in subcontract negotiations. This webinar will provide fundamental principles for appropriate flow-down provisions and the most important provisions that general contractors and subcontractors alike should focus their attention upon.</span></span><br />\n&nbsp\;<br />\n<span style="color:black\;"><span style="font-family:arial\,sans-serif\;"><span style="font-size:12.0pt\;">By attending\, you will gain a deeper understanding of critical issues like pay-if-paid and pay-when-paid\, as well as minimizing conflicts between contract documents and scope gaps.</span></span></span>
LOCATION:
UID:e.9143.1118
SEQUENCE:3
DTSTAMP:20260421T195503Z
URL:https://business.abcnalabama.org/events/details/what-contractors-need-to-prioritize-in-their-subcontractor-negotiations-1118
END:VEVENT

END:VCALENDAR
